BEGIN:VCALENDAR
VERSION:2.0
PRODID:-//Georgia Chapter - ICRI - ECPv6.15.20//NONSGML v1.0//EN
CALSCALE:GREGORIAN
METHOD:PUBLISH
X-WR-CALNAME:Georgia Chapter - ICRI
X-ORIGINAL-URL:https://icriga.org
X-WR-CALDESC:Events for Georgia Chapter - ICRI
REFRESH-INTERVAL;VALUE=DURATION:PT1H
X-Robots-Tag:noindex
X-PUBLISHED-TTL:PT1H
BEGIN:VTIMEZONE
TZID:America/New_York
BEGIN:DAYLIGHT
TZOFFSETFROM:-0500
TZOFFSETTO:-0400
TZNAME:EDT
DTSTART:20250309T070000
END:DAYLIGHT
BEGIN:STANDARD
TZOFFSETFROM:-0400
TZOFFSETTO:-0500
TZNAME:EST
DTSTART:20251102T060000
END:STANDARD
BEGIN:DAYLIGHT
TZOFFSETFROM:-0500
TZOFFSETTO:-0400
TZNAME:EDT
DTSTART:20260308T070000
END:DAYLIGHT
BEGIN:STANDARD
TZOFFSETFROM:-0400
TZOFFSETTO:-0500
TZNAME:EST
DTSTART:20261101T060000
END:STANDARD
BEGIN:DAYLIGHT
TZOFFSETFROM:-0500
TZOFFSETTO:-0400
TZNAME:EDT
DTSTART:20270314T070000
END:DAYLIGHT
BEGIN:STANDARD
TZOFFSETFROM:-0400
TZOFFSETTO:-0500
TZNAME:EST
DTSTART:20271107T060000
END:STANDARD
END:VTIMEZONE
BEGIN:VEVENT
DTSTART;TZID=America/New_York:20260423T113000
DTEND;TZID=America/New_York:20260423T130000
DTSTAMP:20260423T072410
CREATED:20260331T154254Z
LAST-MODIFIED:20260331T154402Z
UID:4560-1776943800-1776949200@icriga.org
SUMMARY:April Luncheon
DESCRIPTION:April 23rd\nThere will be three presenters: two of last year’s scholarship winners and Josh Lloyd\, as the ICRI regional representative. \nAndy Lainez\nICRI 2025 Scholarship Winner and Undergraduate Student at Georgia Tech \nPresentation: Investigation of Rust Staining in a Residential Concrete Driveway: A Newcomer’s Perspective \nJace Johnson\, EIT\nICRI 2025 Scholarship Winner and PhD Candidate at UGA \nPresentation: Current Efforts and Future Direction of Bridge Durability in Georgia and Broader Materials Research \nJosh Lloyd\, PE\nJ. Lloyd Engineering\, LLC | ICRI National Region 2 Representative \nPresentation: State of ICRI 2026
URL:https://icriga.org/event/april-luncheon-2026/
LOCATION:Maggiano’s Little Italy\, 4400 Ashford Dunwoody Rd Space #3035\, Dunwoody\, GA\, 30346\, United States
ATTACH;FMTTYPE=image/png:https://icriga.org/wp-content/uploads/2026/03/march2026-1.png
END:VEVENT
END:VCALENDAR